BEGIN:VCALENDAR
VERSION:2.0
PRODID:-//WNKO - ECPv5.12.2//NONSGML v1.0//EN
CALSCALE:GREGORIAN
METHOD:PUBLISH
X-WR-CALNAME:WNKO
X-ORIGINAL-URL:http://www.wnko.com
X-WR-CALDESC:Events for WNKO
REFRESH-INTERVAL;VALUE=DURATION:PT1H
X-Robots-Tag:noindex
X-PUBLISHED-TTL:PT1H
BEGIN:VTIMEZONE
TZID:America/New_York
BEGIN:DAYLIGHT
TZOFFSETFROM:-0500
TZOFFSETTO:-0400
TZNAME:EDT
DTSTART:20260308T070000
END:DAYLIGHT
BEGIN:STANDARD
TZOFFSETFROM:-0400
TZOFFSETTO:-0500
TZNAME:EST
DTSTART:20261101T060000
END:STANDARD
END:VTIMEZONE
BEGIN:VEVENT
DTSTART;TZID=America/New_York:20260207T090000
DTEND;TZID=America/New_York:20260207T120000
DTSTAMP:20260423T024420
CREATED:20260123T201357Z
LAST-MODIFIED:20260123T201357Z
UID:17943-1770454800-1770465600@www.wnko.com
SUMMARY:Gym Sale
DESCRIPTION:FEBRUARY Gym Sale — February 7 | 9 AM–12 PM\nJoin us for our next Gym Sale ON A SATURDAY at the Look Up Center! Our gym will be filled with household goods\, clothing\, décor\, shoes\, toys\, and MUCH MUCH MORE—PLUS access to our Opportunity Store!\nCash preferred\, but credit/debit cards accepted too
URL:http://www.wnko.com/event/gym-sale/
LOCATION:The Look Up Center\, 50 O'Bannon Ave\, Newark\, OH    -    Ohio\, 43055
ORGANIZER;CN="The%20Look%20Up%20Center":MAILTO:lori@lookupcenter.org
END:VEVENT
BEGIN:VEVENT
DTSTART;TZID=America/New_York:20260205T180000
DTEND;TZID=America/New_York:20260205T190000
DTSTAMP:20260423T024420
CREATED:20260116T204215Z
LAST-MODIFIED:20260116T204215Z
UID:17872-1770314400-1770318000@www.wnko.com
SUMMARY:Heath Moundbuilders Kiwanis Meeting
DESCRIPTION:Regular meeting. Members\, former members and visitors’ always welcome. We are a service organization serving the community. Kids need Kiwanis and Kiwanis needs you.
URL:http://www.wnko.com/event/heath-moundbuilders-kiwanis-meeting-7/
LOCATION:Park Lanes Bowling Center\, 701 Hopewell Dr.\, Heath\, OH\, 43056\, United States
ORGANIZER;CN="Heath%20Moundbuilders%20Kiwanis":MAILTO:rrenicker@hotmail.com
END:VEVENT
BEGIN:VEVENT
DTSTART;TZID=America/New_York:20260129T170000
DTEND;TZID=America/New_York:20260129T183000
DTSTAMP:20260423T024420
CREATED:20260119T211033Z
LAST-MODIFIED:20260119T211033Z
UID:17881-1769706000-1769711400@www.wnko.com
SUMMARY:Dinner at the Center: Free Community Dinner
DESCRIPTION:*You’re Invited: Dinner at the Center!!**\nJoin us THURSDAY\, **JANUARY 29\, 2026**\, for another evening of great food and even better community connections at **Dinner at the Center** — a cherished tradition at the Look Up Center!Menu – Enjoy a hearty meal of Spaghetti-Pizza\, served with a salad and breadsticks. The meal will be finished with fresh fruit!
URL:http://www.wnko.com/event/dinner-at-the-center-free-community-dinner/
LOCATION:The Look Up Center\, 50 O'Bannon Ave\, Newark\, OH    -    Ohio\, 43055
ORGANIZER;CN="The%20Look%20Up%20Center":MAILTO:lori@lookupcenter.org
END:VEVENT
BEGIN:VEVENT
DTSTART;TZID=America/New_York:20260124T160000
DTEND;TZID=America/New_York:20260124T183000
DTSTAMP:20260423T024420
CREATED:20260121T205235Z
LAST-MODIFIED:20260121T205235Z
UID:17898-1769270400-1769279400@www.wnko.com
SUMMARY:Historic Hudson Community Association Chicken Noodle Dinner & Auction
DESCRIPTION:The Historic Hudson Community Association will host its annual Chicken Noodle Dinner and Auction Saturday\, January 24th from 4-6:30pm at the Union Hall on Hudson Avenue.\nMeal includes home made chicken and noodles\, mashed potatoes\, green beans\, salad\, rolls\, unlimited drinks. Homemade desserts available for sale.\nCost is $12 for Adults and $6 for Children.\nProceeds benefit a number of things including a one thousand dollar scholarship for an area high school graduate.
URL:http://www.wnko.com/event/historic-hudson-community-association-chicken-noodle-dinner-auction/
LOCATION:GMP Union Hall\, 350 Hudson Ave\, Newark\, OH\, 43055\, United States
END:VEVENT
END:VCALENDAR