BEGIN:VCALENDAR
VERSION:2.0
PRODID:-//WNKO - ECPv5.12.2//NONSGML v1.0//EN
CALSCALE:GREGORIAN
METHOD:PUBLISH
X-WR-CALNAME:WNKO
X-ORIGINAL-URL:http://www.wnko.com
X-WR-CALDESC:Events for WNKO
REFRESH-INTERVAL;VALUE=DURATION:PT1H
X-Robots-Tag:noindex
X-PUBLISHED-TTL:PT1H
BEGIN:VTIMEZONE
TZID:America/New_York
BEGIN:DAYLIGHT
TZOFFSETFROM:-0500
TZOFFSETTO:-0400
TZNAME:EDT
DTSTART:20260308T070000
END:DAYLIGHT
BEGIN:STANDARD
TZOFFSETFROM:-0400
TZOFFSETTO:-0500
TZNAME:EST
DTSTART:20261101T060000
END:STANDARD
END:VTIMEZONE
BEGIN:VEVENT
DTSTART;TZID=America/New_York:20260124T160000
DTEND;TZID=America/New_York:20260124T183000
DTSTAMP:20260423T051953
CREATED:20260121T205235Z
LAST-MODIFIED:20260121T205235Z
UID:17898-1769270400-1769279400@www.wnko.com
SUMMARY:Historic Hudson Community Association Chicken Noodle Dinner & Auction
DESCRIPTION:The Historic Hudson Community Association will host its annual Chicken Noodle Dinner and Auction Saturday\, January 24th from 4-6:30pm at the Union Hall on Hudson Avenue.\nMeal includes home made chicken and noodles\, mashed potatoes\, green beans\, salad\, rolls\, unlimited drinks. Homemade desserts available for sale.\nCost is $12 for Adults and $6 for Children.\nProceeds benefit a number of things including a one thousand dollar scholarship for an area high school graduate.
URL:http://www.wnko.com/event/historic-hudson-community-association-chicken-noodle-dinner-auction/
LOCATION:GMP Union Hall\, 350 Hudson Ave\, Newark\, OH\, 43055\, United States
END:VEVENT
END:VCALENDAR