BEGIN:VCALENDAR
VERSION:2.0
PRODID:-//WNKO - ECPv5.12.2//NONSGML v1.0//EN
CALSCALE:GREGORIAN
METHOD:PUBLISH
X-WR-CALNAME:WNKO
X-ORIGINAL-URL:http://www.wnko.com
X-WR-CALDESC:Events for WNKO
REFRESH-INTERVAL;VALUE=DURATION:PT1H
X-Robots-Tag:noindex
X-PUBLISHED-TTL:PT1H
BEGIN:VTIMEZONE
TZID:America/New_York
BEGIN:DAYLIGHT
TZOFFSETFROM:-0500
TZOFFSETTO:-0400
TZNAME:EDT
DTSTART:20260308T070000
END:DAYLIGHT
BEGIN:STANDARD
TZOFFSETFROM:-0400
TZOFFSETTO:-0500
TZNAME:EST
DTSTART:20261101T060000
END:STANDARD
END:VTIMEZONE
BEGIN:VEVENT
DTSTART;TZID=America/New_York:20260402T100000
DTEND;TZID=America/New_York:20260402T160000
DTSTAMP:20260422T041400
CREATED:20260218T204843Z
LAST-MODIFIED:20260331T190653Z
UID:18171-1775124000-1775145600@www.wnko.com
SUMMARY:**CANCELED** Spring Blood Drive
DESCRIPTION:**DUE TO A LACK OF DONORS\, THE RED CROSS HAS DECIDED TO CANCEL THIS BLOOD DRIVE. TO FIND A BLOOD DRIVE NEAR YOU VISIT REDCROSSBLOOD.ORG**\n\nNewark Fire Department and the American Red Cross will be hosting a spring blood drive on Thursday\, April 2\, 2026 from 10 am to 4 pm at Newark Fire Station #1 located at 75 S. 4th Street.
URL:http://www.wnko.com/event/spring-blood-drive/
LOCATION:Newark Fire Station 1\, 75 S. 4th Street\, Newark\, OH\, 43055\, United States
ORGANIZER;CN="Tina%20Wells%2C%20Administrative%20Specialist":MAILTO:TWells@newarkohio.net
END:VEVENT
END:VCALENDAR