BEGIN:VCALENDAR
VERSION:2.0
PRODID:-//WNKO - ECPv5.12.2//NONSGML v1.0//EN
CALSCALE:GREGORIAN
METHOD:PUBLISH
X-WR-CALNAME:WNKO
X-ORIGINAL-URL:http://www.wnko.com
X-WR-CALDESC:Events for WNKO
REFRESH-INTERVAL;VALUE=DURATION:PT1H
X-Robots-Tag:noindex
X-PUBLISHED-TTL:PT1H
BEGIN:VTIMEZONE
TZID:America/New_York
BEGIN:DAYLIGHT
TZOFFSETFROM:-0500
TZOFFSETTO:-0400
TZNAME:EDT
DTSTART:20260308T070000
END:DAYLIGHT
BEGIN:STANDARD
TZOFFSETFROM:-0400
TZOFFSETTO:-0500
TZNAME:EST
DTSTART:20261101T060000
END:STANDARD
END:VTIMEZONE
BEGIN:VEVENT
DTSTART;TZID=America/New_York:20260326T170000
DTEND;TZID=America/New_York:20260326T183000
DTSTAMP:20260422T145045
CREATED:20260316T203705Z
LAST-MODIFIED:20260316T203705Z
UID:18329-1774544400-1774549800@www.wnko.com
SUMMARY:Dinner at the Center: Free Community Dinner
DESCRIPTION:*You’re Invited: Dinner at the Center!!**\nJoin us THURSDAY\, **MARCH 26\, 2026**\, for another evening of great food and even better community connections at **Dinner at the Center** — a cherished tradition at the Look Up Center!
URL:http://www.wnko.com/event/dinner-at-the-center-free-community-dinner-3/
LOCATION:The Look Up Center\, 50 O'Bannon Ave\, Newark\, OH    -    Ohio\, 43055
ORGANIZER;CN="The%20Look%20Up%20Center":MAILTO:lori@lookupcenter.org
END:VEVENT
END:VCALENDAR